BEGIN:VCALENDAR
VERSION:2.0
PRODID:-//Monterey Viejo ECV® 1846 - ECPv6.15.20//NONSGML v1.0//EN
CALSCALE:GREGORIAN
METHOD:PUBLISH
X-WR-CALNAME:Monterey Viejo ECV® 1846
X-ORIGINAL-URL:https://ecv1846.com
X-WR-CALDESC:Events for Monterey Viejo ECV® 1846
REFRESH-INTERVAL;VALUE=DURATION:PT1H
X-Robots-Tag:noindex
X-PUBLISHED-TTL:PT1H
BEGIN:VTIMEZONE
TZID:America/Los_Angeles
BEGIN:DAYLIGHT
TZOFFSETFROM:-0800
TZOFFSETTO:-0700
TZNAME:PDT
DTSTART:20230312T100000
END:DAYLIGHT
BEGIN:STANDARD
TZOFFSETFROM:-0700
TZOFFSETTO:-0800
TZNAME:PST
DTSTART:20231105T090000
END:STANDARD
BEGIN:DAYLIGHT
TZOFFSETFROM:-0800
TZOFFSETTO:-0700
TZNAME:PDT
DTSTART:20240310T100000
END:DAYLIGHT
BEGIN:STANDARD
TZOFFSETFROM:-0700
TZOFFSETTO:-0800
TZNAME:PST
DTSTART:20241103T090000
END:STANDARD
BEGIN:DAYLIGHT
TZOFFSETFROM:-0800
TZOFFSETTO:-0700
TZNAME:PDT
DTSTART:20250309T100000
END:DAYLIGHT
BEGIN:STANDARD
TZOFFSETFROM:-0700
TZOFFSETTO:-0800
TZNAME:PST
DTSTART:20251102T090000
END:STANDARD
END:VTIMEZONE
BEGIN:VEVENT
DTSTART;TZID=America/Los_Angeles:20240618T080000
DTEND;TZID=America/Los_Angeles:20240930T170000
DTSTAMP:20260425T205441
CREATED:20240420T142345Z
LAST-MODIFIED:20241002T022331Z
UID:4681-1718697600-1727715600@ecv1846.com
SUMMARY:MV 1846 ECV 2024 Laguna Seca Volunteering
DESCRIPTION:From XNGH Dylan Tortolani: ATTENTION BROTHERS: Racing season is here again and so we need volunteers for Laguna Seca. Please contact me via messenger if available for one\, some\, or all of these days if you would like to volunteer. Age restrictions and specific clothing is required in order to enter specific sections of the track/pits. Please contact Dylan with any questions or concerns. THANK YOU!!! \nFor the rest of the year please see the below schedule for volunteering. \nMay 2-5 – Laguna Seca SpeedTour (Trans Am)\nMay 10-12 – Motul Course de Monterey (IMSA)\nMay 17-19 – Ferrari Racing Days \nJune 21-23 – Firestone Grand Prix of Monterey (INDYCAR)\nJuly 12-14 – MotoAmerica Superbike SpeedFest at Monterey\nAugust 10-11 – Monterey Pre-Reunion & Corkscrew Hillclimb\nAugust 14-17 – Rolex Monterey Motorsports Reunion\nSeptember 27-29 – GRIDLIFE Laguna \n2024 Upcoming Events: Laguna Seca Upcoming Events \n2024 Calendar: Laguna Seca Track Calendar 2024 \n  \nQuestions\, comments\, concerns\, request to volunteer with Specific Dates Contact  XNGH Dylan Tortolani: (831) 277-4398 Or contact XNGH Dylan Tortolani through facebook messenger: Facebook Messenger Dylan Tortolani
URL:https://ecv1846.com/event/mv-1846-ecv-2024-spring-laguna-seca-volunteering/
LOCATION:Laguna Seca Raceway\, 1021 Monterey Salinas Hwy\,\, Salinas\, 93908\, United States
CATEGORIES:Work Party
ORGANIZER;CN="Dylan Tortolani":MAILTO:dylantort@hotmail.com
END:VEVENT
BEGIN:VEVENT
DTSTART;TZID=America/Los_Angeles:20240811T080000
DTEND;TZID=America/Los_Angeles:20240811T170000
DTSTAMP:20260425T205441
CREATED:20240809T153400Z
LAST-MODIFIED:20240809T153627Z
UID:4758-1723363200-1723395600@ecv1846.com
SUMMARY:Spirit of Juan Bautista San Juan Day\, 9:00am-4:00pm\, Antiques\, Games\, Food\, Music\, Kids Zone\, 3rd Street SJB
DESCRIPTION:Event Calendar | San Juan Bautista | San Benito County\, CA (sanjuanbautistaca.com) \nFrom Brother Len Bethke \nHey brothers\, so San Juan Days is this Sunday and we need volunteers. Need traffic control and whatever other help they can get. The event is Sunday\, 9-4 but mostly it sounds like we’ll be needed for the afternoon. Anyone who can\, meet at Daisy’s at 2-3ish. Final Final’s buying the first round. Let’s make this red-shirt Sunday count. I’m working\, myself\, so i can’t make it\, but I hope all you brothers with normal schedules can.
URL:https://ecv1846.com/event/spirit-of-juan-bautista-san-juan-day-900am-400pm-antiques-games-food-music-kids-zone-3rd-street-sjb/
LOCATION:3rd Street San Juan Bautista\, 3rd Street\, San Juan Bautista\, CA\, 95045\, United States
END:VEVENT
END:VCALENDAR