BEGIN:VCALENDAR
VERSION:2.0
PRODID:-//Monterey Viejo ECV® 1846 - ECPv6.15.20//NONSGML v1.0//EN
CALSCALE:GREGORIAN
METHOD:PUBLISH
X-ORIGINAL-URL:https://ecv1846.com
X-WR-CALDESC:Events for Monterey Viejo ECV® 1846
REFRESH-INTERVAL;VALUE=DURATION:PT1H
X-Robots-Tag:noindex
X-PUBLISHED-TTL:PT1H
BEGIN:VTIMEZONE
TZID:America/Los_Angeles
BEGIN:DAYLIGHT
TZOFFSETFROM:-0800
TZOFFSETTO:-0700
TZNAME:PDT
DTSTART:20230312T100000
END:DAYLIGHT
BEGIN:STANDARD
TZOFFSETFROM:-0700
TZOFFSETTO:-0800
TZNAME:PST
DTSTART:20231105T090000
END:STANDARD
BEGIN:DAYLIGHT
TZOFFSETFROM:-0800
TZOFFSETTO:-0700
TZNAME:PDT
DTSTART:20240310T100000
END:DAYLIGHT
BEGIN:STANDARD
TZOFFSETFROM:-0700
TZOFFSETTO:-0800
TZNAME:PST
DTSTART:20241103T090000
END:STANDARD
BEGIN:DAYLIGHT
TZOFFSETFROM:-0800
TZOFFSETTO:-0700
TZNAME:PDT
DTSTART:20250309T100000
END:DAYLIGHT
BEGIN:STANDARD
TZOFFSETFROM:-0700
TZOFFSETTO:-0800
TZNAME:PST
DTSTART:20251102T090000
END:STANDARD
END:VTIMEZONE
BEGIN:VEVENT
DTSTART;TZID=America/Los_Angeles:20241102T180000
DTEND;TZID=America/Los_Angeles:20241102T233000
DTSTAMP:20260425T164851
CREATED:20231207T181233Z
LAST-MODIFIED:20241025T024153Z
UID:4432-1730570400-1730590200@ecv1846.com
SUMMARY:MV 1846 ECV 2024 Widders Ball
DESCRIPTION:  \nMonterey Viejo 1846 \nTime to Dust off the Fancy Clothes and Step Out With Your Widders as the Honorable Nole Grand Humbug Jeremy Shipp Invites you to our Annual \nWidders’s Mascarade Ball \nCome on Down to the Monterey Peninsula American Legion Post 41\, On November 2\, 2024 at 6:00PM \nAddress: 1110 Veterans Dr\, Monterey\, CA 93940 \nStart the Evening Off With Some Adult Libations. Followed by Some Fancy Grub. There Will Also be Dancing and Other Celebratory Activities Until We Get Kicked out. \nStags Welcomed\, But Couples Take Priority. 50 Couples is the Limit \nRub is: $100/Per Couple. $50 Stags \nPrepay Only. So Get Your Gold Dust In By October 23\, 2024. \nSend Gold Dust To: \nMonterey Viejo 1846 \nPO Box 4912 \nSalinas\, CA 93912 \nPlease Direct All Questions to the Humbug Jeremy Shipp \n(916)519-7852
URL:https://ecv1846.com/event/mv-1846-ecv-2024-widders-ball/
LOCATION:Monterey Peninsula American Legion Post 41\, 1110 Veterans Drive\, Monterey\, CA\, 93940\, United States
CATEGORIES:Widders Ball
ATTACH;FMTTYPE=image/jpeg:https://ecv1846.com/wp-content/uploads/2023/12/2024Widdersball3.jpg
END:VEVENT
END:VCALENDAR