BEGIN:VCALENDAR
VERSION:2.0
PRODID:-//Monterey Viejo ECV® 1846 - ECPv6.15.20//NONSGML v1.0//EN
CALSCALE:GREGORIAN
METHOD:PUBLISH
X-WR-CALNAME:Monterey Viejo ECV® 1846
X-ORIGINAL-URL:https://ecv1846.com
X-WR-CALDESC:Events for Monterey Viejo ECV® 1846
REFRESH-INTERVAL;VALUE=DURATION:PT1H
X-Robots-Tag:noindex
X-PUBLISHED-TTL:PT1H
BEGIN:VTIMEZONE
TZID:America/Los_Angeles
BEGIN:DAYLIGHT
TZOFFSETFROM:-0800
TZOFFSETTO:-0700
TZNAME:PDT
DTSTART:20230312T100000
END:DAYLIGHT
BEGIN:STANDARD
TZOFFSETFROM:-0700
TZOFFSETTO:-0800
TZNAME:PST
DTSTART:20231105T090000
END:STANDARD
BEGIN:DAYLIGHT
TZOFFSETFROM:-0800
TZOFFSETTO:-0700
TZNAME:PDT
DTSTART:20240310T100000
END:DAYLIGHT
BEGIN:STANDARD
TZOFFSETFROM:-0700
TZOFFSETTO:-0800
TZNAME:PST
DTSTART:20241103T090000
END:STANDARD
BEGIN:DAYLIGHT
TZOFFSETFROM:-0800
TZOFFSETTO:-0700
TZNAME:PDT
DTSTART:20250309T100000
END:DAYLIGHT
BEGIN:STANDARD
TZOFFSETFROM:-0700
TZOFFSETTO:-0800
TZNAME:PST
DTSTART:20251102T090000
END:STANDARD
END:VTIMEZONE
BEGIN:VEVENT
DTSTART;TZID=America/Los_Angeles:20241110T080000
DTEND;TZID=America/Los_Angeles:20241215T170000
DTSTAMP:20260425T153559
CREATED:20241110T165939Z
LAST-MODIFIED:20241205T135209Z
UID:4881-1731225600-1734282000@ecv1846.com
SUMMARY:MV 1846 ECV 2024 4th Annual Toy Drive
DESCRIPTION:Monterey Viejo 1846 2024 Toy Drive \nHey\, wonderful friends and family! \nI hope this finds you well and full of warmth. As the holiday season approaches\, our hearts are filled with gratitude\, and we’re reminded of the importance of giving back. This year marks Monterey Viejo\, Chapter 1846 4th Annual Toy Drive and we’re beyond excited to share the love with those who need it most. \nThis time around\, we’ve decided to direct all proceeds to The Marley Holt who play a vital role in supporting families going through hardship in the San Benito area. Every child deserves a magical holiday season\, and with your help\, we can make it happen! \nToys can be brought for donation to the passing of the staff event on December 6th. \nFor info on how to donate please contact Damien Padilla or VNGH David Shepherd Jr. (831) 206-8936
URL:https://ecv1846.com/event/mv-1846-ecv-2024-4th-annual-toy-drive/
LOCATION:CA
ATTACH;FMTTYPE=image/jpeg:https://ecv1846.com/wp-content/uploads/2024/11/465800154_10161619588393771_4723381100613743694_n-e1733406721571.jpg
END:VEVENT
BEGIN:VEVENT
DTSTART;TZID=America/Los_Angeles:20241207T180000
DTEND;TZID=America/Los_Angeles:20241207T210000
DTSTAMP:20260425T153559
CREATED:20241110T170947Z
LAST-MODIFIED:20241205T135134Z
UID:4886-1733594400-1733605200@ecv1846.com
SUMMARY:MV 1846 ECV 2024 San Juan Bautista Parade of Lights
DESCRIPTION:THE HOLIDAY of\nLIGHTS PARADE\nSponsored by the\nROTARY CLUB of\nSAN JUAN BAUTISTA\nSaturday\,\nDecember 7\, 2024\nat 6:00 p.m.\n3rd Street\n​(San Juan School) –\nJim Jack Cabin at the\n​Luck Museum \n​The 15th Annual San Juan Bautista Holiday of Lights Parade is once again promised to be the biggest and the best. Parade attendees will enjoy a Grand Marshall\, holiday floats representing non-profit organizations\, local businesses\, and emergency agencies\, marching bands\, and horses on parade.  This fun-filled event features Santa Claus.\n​For More Information Please Contact:  Jackie Munoz (831-320-1764) \nWe usually meet at a predetermined location prior to the start of the event and a meetup afterwards. Information will be relayed as it becomes available. \nQuestions? Comments? Concerns? Contact your VNGH David Shepherd Jr (831)206-8936
URL:https://ecv1846.com/event/mv-1846-ecv-2024-san-juan-bautista-parade-of-lights/
LOCATION:CA
ATTACH;FMTTYPE=image/jpeg:https://ecv1846.com/wp-content/uploads/2024/11/465263345_3564342317202810_1944149238412494858_n-e1733406686425.jpg
END:VEVENT
END:VCALENDAR