BEGIN:VCALENDAR
VERSION:2.0
PRODID:-//Monterey Viejo ECV® 1846 - ECPv6.15.20//NONSGML v1.0//EN
CALSCALE:GREGORIAN
METHOD:PUBLISH
X-WR-CALNAME:Monterey Viejo ECV® 1846
X-ORIGINAL-URL:https://ecv1846.com
X-WR-CALDESC:Events for Monterey Viejo ECV® 1846
REFRESH-INTERVAL;VALUE=DURATION:PT1H
X-Robots-Tag:noindex
X-PUBLISHED-TTL:PT1H
BEGIN:VTIMEZONE
TZID:America/Los_Angeles
BEGIN:DAYLIGHT
TZOFFSETFROM:-0800
TZOFFSETTO:-0700
TZNAME:PDT
DTSTART:20240310T100000
END:DAYLIGHT
BEGIN:STANDARD
TZOFFSETFROM:-0700
TZOFFSETTO:-0800
TZNAME:PST
DTSTART:20241103T090000
END:STANDARD
BEGIN:DAYLIGHT
TZOFFSETFROM:-0800
TZOFFSETTO:-0700
TZNAME:PDT
DTSTART:20250309T100000
END:DAYLIGHT
BEGIN:STANDARD
TZOFFSETFROM:-0700
TZOFFSETTO:-0800
TZNAME:PST
DTSTART:20251102T090000
END:STANDARD
BEGIN:DAYLIGHT
TZOFFSETFROM:-0800
TZOFFSETTO:-0700
TZNAME:PDT
DTSTART:20260308T100000
END:DAYLIGHT
BEGIN:STANDARD
TZOFFSETFROM:-0700
TZOFFSETTO:-0800
TZNAME:PST
DTSTART:20261101T090000
END:STANDARD
END:VTIMEZONE
BEGIN:VEVENT
DTSTART;TZID=America/Los_Angeles:20250301T090000
DTEND;TZID=America/Los_Angeles:20250301T170000
DTSTAMP:20260425T112037
CREATED:20241216T020522Z
LAST-MODIFIED:20250205T012824Z
UID:4926-1740819600-1740848400@ecv1846.com
SUMMARY:MV 1846 ECV 2025 Work Party/ Meeting/ Officers Meeting
DESCRIPTION:NGH David Shepherd Jr. Says:\nWork Party 9 am – done.!!\nMcAlpine Lake.!!\n\n\nWe will be trimming trees & spraying Poison oak. A little clean up of the area.\nTools needed. Pole saw\, weedeater\, chainsaw\, rake & shovels.!!\nLet’s make it Beautiful.!! We have a Doins in April & Family Day in May.!!\nWe get the use of the whole place but it is also open to the public at the same time.!!\nThis is just a heads up reminder.!!\n\nCan Food Drive \nEaster Basket Drive
URL:https://ecv1846.com/event/mv-1846-ecv-2025-work-party-meeting-officers-meeting/
LOCATION:McAlpine Lake\, 900 Anzar Road\, San Juan Bautista\, CA\, 95045\, United States
CATEGORIES:Work Party
ATTACH;FMTTYPE=image/gif:https://ecv1846.com/wp-content/uploads/2024/01/Web_Logo_Transparent_1.gif
END:VEVENT
END:VCALENDAR