BEGIN:VCALENDAR
VERSION:2.0
PRODID:-//Monterey Viejo ECV® 1846 - ECPv6.15.20//NONSGML v1.0//EN
CALSCALE:GREGORIAN
METHOD:PUBLISH
X-WR-CALNAME:Monterey Viejo ECV® 1846
X-ORIGINAL-URL:https://ecv1846.com
X-WR-CALDESC:Events for Monterey Viejo ECV® 1846
REFRESH-INTERVAL;VALUE=DURATION:PT1H
X-Robots-Tag:noindex
X-PUBLISHED-TTL:PT1H
BEGIN:VTIMEZONE
TZID:America/Los_Angeles
BEGIN:DAYLIGHT
TZOFFSETFROM:-0800
TZOFFSETTO:-0700
TZNAME:PDT
DTSTART:20250309T100000
END:DAYLIGHT
BEGIN:STANDARD
TZOFFSETFROM:-0700
TZOFFSETTO:-0800
TZNAME:PST
DTSTART:20251102T090000
END:STANDARD
BEGIN:DAYLIGHT
TZOFFSETFROM:-0800
TZOFFSETTO:-0700
TZNAME:PDT
DTSTART:20260308T100000
END:DAYLIGHT
BEGIN:STANDARD
TZOFFSETFROM:-0700
TZOFFSETTO:-0800
TZNAME:PST
DTSTART:20261101T090000
END:STANDARD
BEGIN:DAYLIGHT
TZOFFSETFROM:-0800
TZOFFSETTO:-0700
TZNAME:PDT
DTSTART:20270314T100000
END:DAYLIGHT
BEGIN:STANDARD
TZOFFSETFROM:-0700
TZOFFSETTO:-0800
TZNAME:PST
DTSTART:20271107T090000
END:STANDARD
END:VTIMEZONE
BEGIN:VEVENT
DTSTART;TZID=America/Los_Angeles:20260501T070000
DTEND;TZID=America/Los_Angeles:20260503T170000
DTSTAMP:20260423T054854
CREATED:20251219T125118Z
LAST-MODIFIED:20260408T144302Z
UID:5560-1777618800-1777827600@ecv1846.com
SUMMARY:MV 1846 ECV 2026 Laguna Seca Raceway Monterey Sport Car Championship
DESCRIPTION:Monterey SportsCar Championship – WeatherTech Raceway Laguna Seca
URL:https://ecv1846.com/event/mv-1846-ecv-2026-laguna-seca-raceway-monterey-sport-car-championship/
LOCATION:Laguna Seca Raceway\, 1021 Monterey Salinas Hwy\,\, Salinas\, 93908\, United States
CATEGORIES:Work Party
ATTACH;FMTTYPE=image/webp:https://ecv1846.com/wp-content/uploads/2025/12/Montereysportscarchampionship-e1775658816585.webp
ORGANIZER;CN="Dylan Tortolani":MAILTO:dylantort@hotmail.com
END:VEVENT
BEGIN:VEVENT
DTSTART;TZID=America/Los_Angeles:20260509T080000
DTEND;TZID=America/Los_Angeles:20260509T170000
DTSTAMP:20260423T054854
CREATED:20251219T125314Z
LAST-MODIFIED:20251219T125326Z
UID:5563-1778313600-1778346000@ecv1846.com
SUMMARY:MV 1846 ECV 2026 May General Meeting
DESCRIPTION:
URL:https://ecv1846.com/event/mv-1846-ecv-2026-may-general-meeting/
LOCATION:CA
CATEGORIES:General Meeting
END:VEVENT
BEGIN:VEVENT
DTSTART;TZID=America/Los_Angeles:20260515T080000
DTEND;TZID=America/Los_Angeles:20260517T170000
DTSTAMP:20260423T054854
CREATED:20251219T125531Z
LAST-MODIFIED:20251219T125542Z
UID:5566-1778832000-1779037200@ecv1846.com
SUMMARY:Grand Council in Sonora CA
DESCRIPTION:
URL:https://ecv1846.com/event/grand-council-in-sonora-ca/
LOCATION:CA
CATEGORIES:Doins
END:VEVENT
BEGIN:VEVENT
DTSTART;TZID=America/Los_Angeles:20260606T080000
DTEND;TZID=America/Los_Angeles:20260606T170000
DTSTAMP:20260423T054854
CREATED:20251219T125740Z
LAST-MODIFIED:20251219T125752Z
UID:5569-1780732800-1780765200@ecv1846.com
SUMMARY:MV 1846 ECV 2026 June General Meeting
DESCRIPTION:
URL:https://ecv1846.com/event/mv-1846-ecv-2026-june-general-meeting/
LOCATION:CA
CATEGORIES:General Meeting
END:VEVENT
BEGIN:VEVENT
DTSTART;TZID=America/Los_Angeles:20260619T080000
DTEND;TZID=America/Los_Angeles:20260621T170000
DTSTAMP:20260423T054854
CREATED:20251219T130659Z
LAST-MODIFIED:20260321T204606Z
UID:5572-1781856000-1782061200@ecv1846.com
SUMMARY:MV 1846 ECV 2026 Laguna Seca Raceway Ferrari Challenge
DESCRIPTION:Ferrari Challenge – WeatherTech Raceway Laguna Seca \n  \nsomething
URL:https://ecv1846.com/event/mv-1846-ecv-2026-laguna-seca-raceway-ferrari-challenge/
LOCATION:Laguna Seca Raceway\, 1021 Monterey Salinas Hwy\,\, Salinas\, 93908\, United States
CATEGORIES:Work Party
END:VEVENT
BEGIN:VEVENT
DTSTART;TZID=America/Los_Angeles:20260620T080000
DTEND;TZID=America/Los_Angeles:20260620T170000
DTSTAMP:20260423T054854
CREATED:20251219T130958Z
LAST-MODIFIED:20251219T131046Z
UID:5574-1781942400-1781974800@ecv1846.com
SUMMARY:MV 1846 ECV 2026 Hollister Horse Parade
DESCRIPTION:Saddle Horse Show Downtown Parade — Hollister Downtown Association
URL:https://ecv1846.com/event/mv-1846-ecv-2026-hollister-horse-parade/
LOCATION:Hollister Horse Show Staging Area\, Monterey Street\, Hollister\, CA\, 95023\, United States
CATEGORIES:Parade
END:VEVENT
BEGIN:VEVENT
DTSTART;TZID=America/Los_Angeles:20260711T170000
DTEND;TZID=America/Los_Angeles:20260711T220000
DTSTAMP:20260423T054854
CREATED:20260116T042720Z
LAST-MODIFIED:20260116T042720Z
UID:5616-1783789200-1783807200@ecv1846.com
SUMMARY:MV 1846 ECV 2026 July General Meeting
DESCRIPTION:
URL:https://ecv1846.com/event/mv-1846-ecv-2026-july-general-meeting/
LOCATION:CA
CATEGORIES:General Meeting
END:VEVENT
BEGIN:VEVENT
DTSTART;TZID=America/Los_Angeles:20260717T080000
DTEND;TZID=America/Los_Angeles:20260718T170000
DTSTAMP:20260423T054854
CREATED:20260116T042805Z
LAST-MODIFIED:20260116T042805Z
UID:5618-1784275200-1784394000@ecv1846.com
SUMMARY:MV 1846 ECV 2026 Trash Trek
DESCRIPTION:
URL:https://ecv1846.com/event/mv-1846-ecv-2026-trash-trek/
LOCATION:CA
CATEGORIES:Doins
END:VEVENT
BEGIN:VEVENT
DTSTART;VALUE=DATE:20260801
DTEND;VALUE=DATE:20260803
DTSTAMP:20260423T054854
CREATED:20260116T042926Z
LAST-MODIFIED:20260116T042926Z
UID:5620-1785542400-1785715199@ecv1846.com
SUMMARY:MV 1846 ECV 2026 San Benito County Relay for Life
DESCRIPTION:
URL:https://ecv1846.com/event/mv-1846-ecv-2026-san-benito-county-relay-for-life/
LOCATION:CA
CATEGORIES:General Meeting
END:VEVENT
BEGIN:VEVENT
DTSTART;VALUE=DATE:20260801
DTEND;VALUE=DATE:20260803
DTSTAMP:20260423T054854
CREATED:20260116T043052Z
LAST-MODIFIED:20260116T043052Z
UID:5622-1785542400-1785715199@ecv1846.com
SUMMARY:MV 1846 ECV 2026 Laguna Seca Raceway Pre - Reunion and Corkscrew Reunion
DESCRIPTION:
URL:https://ecv1846.com/event/mv-1846-ecv-2026-laguna-seca-raceway-pre-reunion-and-corkscrew-reunion/
LOCATION:Laguna Seca Raceway\, 1021 Monterey Salinas Hwy\,\, Salinas\, 93908\, United States
CATEGORIES:Work Party
END:VEVENT
BEGIN:VEVENT
DTSTART;VALUE=DATE:20260812
DTEND;VALUE=DATE:20260816
DTSTAMP:20260423T054854
CREATED:20260116T043201Z
LAST-MODIFIED:20260116T043201Z
UID:5624-1786492800-1786838399@ecv1846.com
SUMMARY:MV 1846 ECV 2026 Laguna Seca Raceway Rolex Monterey Motorsports Reunion
DESCRIPTION:
URL:https://ecv1846.com/event/mv-1846-ecv-2026-laguna-seca-raceway-rolex-monterey-motorsports-reunion/
LOCATION:Laguna Seca Raceway\, 1021 Monterey Salinas Hwy\,\, Salinas\, 93908\, United States
CATEGORIES:Work Party
END:VEVENT
BEGIN:VEVENT
DTSTART;TZID=America/Los_Angeles:20260829T090000
DTEND;TZID=America/Los_Angeles:20260829T130000
DTSTAMP:20260423T054854
CREATED:20260116T043328Z
LAST-MODIFIED:20260116T043328Z
UID:5626-1787994000-1788008400@ecv1846.com
SUMMARY:MV 1846 ECV 2026 General Meeting/Work Party at Doins Site
DESCRIPTION:
URL:https://ecv1846.com/event/mv-1846-ecv-2026-general-meeting-work-party-at-doins-site/
LOCATION:Don Chapin Friggin’ International Airport\, 40500 Metz-King City Rd\, Greenfield\, CA\, 93927\, United States
CATEGORIES:Work Party
END:VEVENT
BEGIN:VEVENT
DTSTART;VALUE=DATE:20260904
DTEND;VALUE=DATE:20260906
DTSTAMP:20260423T054854
CREATED:20260116T043422Z
LAST-MODIFIED:20260116T043422Z
UID:5628-1788480000-1788652799@ecv1846.com
SUMMARY:MV 1846 ECV 2026 Laguna Seca Raceway Grand Prix of Monterey
DESCRIPTION:
URL:https://ecv1846.com/event/mv-1846-ecv-2026-laguna-seca-raceway-grand-prix-of-monterey/
LOCATION:Laguna Seca Raceway\, 1021 Monterey Salinas Hwy\,\, Salinas\, 93908\, United States
CATEGORIES:Work Party
END:VEVENT
BEGIN:VEVENT
DTSTART;TZID=America/Los_Angeles:20260911T120000
DTEND;TZID=America/Los_Angeles:20260913T100000
DTSTAMP:20260423T054854
CREATED:20260116T043542Z
LAST-MODIFIED:20260116T043542Z
UID:5630-1789128000-1789293600@ecv1846.com
SUMMARY:MV 1846 ECV 2026 Metz Field/Don Chapin Airport Fall Doins
DESCRIPTION:
URL:https://ecv1846.com/event/mv-1846-ecv-2026-metz-field-don-chapin-airport-fall-doins/
LOCATION:Don Chapin Friggin’ International Airport\, 40500 Metz-King City Rd\, Greenfield\, CA\, 93927\, United States
CATEGORIES:Doins
END:VEVENT
BEGIN:VEVENT
DTSTART;VALUE=DATE:20260919
DTEND;VALUE=DATE:20260921
DTSTAMP:20260423T054854
CREATED:20260116T043633Z
LAST-MODIFIED:20260116T043633Z
UID:5632-1789776000-1789948799@ecv1846.com
SUMMARY:MV 1846 ECV 2026 Laguna Seca Raceway
DESCRIPTION:
URL:https://ecv1846.com/event/mv-1846-ecv-2026-laguna-seca-raceway/
LOCATION:Laguna Seca Raceway\, 1021 Monterey Salinas Hwy\,\, Salinas\, 93908\, United States
CATEGORIES:Work Party
END:VEVENT
BEGIN:VEVENT
DTSTART;VALUE=DATE:20261002
DTEND;VALUE=DATE:20261005
DTSTAMP:20260423T054854
CREATED:20260116T044131Z
LAST-MODIFIED:20260116T044131Z
UID:5636-1790899200-1791158399@ecv1846.com
SUMMARY:MV 1846 ECV 2026 Laguna Seca Raceway
DESCRIPTION:
URL:https://ecv1846.com/event/mv-1846-ecv-2026-laguna-seca-raceway-2/
LOCATION:Laguna Seca Raceway\, 1021 Monterey Salinas Hwy\,\, Salinas\, 93908\, United States
CATEGORIES:Work Party
END:VEVENT
BEGIN:VEVENT
DTSTART;VALUE=DATE:20261004
DTEND;VALUE=DATE:20261005
DTSTAMP:20260423T054854
CREATED:20260116T043911Z
LAST-MODIFIED:20260116T043911Z
UID:5634-1791072000-1791158399@ecv1846.com
SUMMARY:MV 1846 ECV 2026 37th Annual World Championship Outhouse Races in Virginia City NV
DESCRIPTION:
URL:https://ecv1846.com/event/mv-1846-ecv-2026-37th-annual-world-championship-outhouse-races-in-virginia-city-nv/
LOCATION:CA
CATEGORIES:Parade
END:VEVENT
BEGIN:VEVENT
DTSTART;TZID=America/Los_Angeles:20261017T170000
DTEND;TZID=America/Los_Angeles:20261017T230000
DTSTAMP:20260423T054854
CREATED:20260116T044258Z
LAST-MODIFIED:20260116T044258Z
UID:5638-1792256400-1792278000@ecv1846.com
SUMMARY:MV 1846 ECV 2026 Widders Ball Halloween Costume Party @ Grillin & Chillin Alehouse
DESCRIPTION:
URL:https://ecv1846.com/event/mv-1846-ecv-2026-widders-ball-halloween-costume-party-grillin-chillin-alehouse/
LOCATION:Grillin & Chillin Alehouse\, 401 McCray St Unit B24\, Hollister\, CA\, 95023\, United States
CATEGORIES:Widders Ball
END:VEVENT
BEGIN:VEVENT
DTSTART;TZID=America/Los_Angeles:20261107T170000
DTEND;TZID=America/Los_Angeles:20261107T200000
DTSTAMP:20260423T054854
CREATED:20260116T044413Z
LAST-MODIFIED:20260116T044413Z
UID:5640-1794070800-1794081600@ecv1846.com
SUMMARY:MV 1846 ECV 2026 Azevedo Ranch Candlelight Doins
DESCRIPTION:
URL:https://ecv1846.com/event/mv-1846-ecv-2026-azevedo-ranch-candlelight-doins/
LOCATION:Azevedo Ranch\, 337 Ricardo Drive\, Aromas\, CA\, 95004\, United States
CATEGORIES:Doins
END:VEVENT
BEGIN:VEVENT
DTSTART;TZID=America/Los_Angeles:20261204T170000
DTEND;TZID=America/Los_Angeles:20261204T210000
DTSTAMP:20260423T054854
CREATED:20260116T044556Z
LAST-MODIFIED:20260116T044556Z
UID:5642-1796403600-1796418000@ecv1846.com
SUMMARY:MV 1846 ECV 2026 Passing of the Staff
DESCRIPTION:
URL:https://ecv1846.com/event/mv-1846-ecv-2026-passing-of-the-staff/
LOCATION:American Legion Post 694\, 694 Legion Way\, Marina\, CA\, 93933\, United States
CATEGORIES:General Meeting
END:VEVENT
END:VCALENDAR