BEGIN:VCALENDAR
VERSION:2.0
PRODID:-//Monterey Viejo ECV® 1846 - ECPv6.15.20//NONSGML v1.0//EN
CALSCALE:GREGORIAN
METHOD:PUBLISH
X-WR-CALNAME:Monterey Viejo ECV® 1846
X-ORIGINAL-URL:https://ecv1846.com
X-WR-CALDESC:Events for Monterey Viejo ECV® 1846
REFRESH-INTERVAL;VALUE=DURATION:PT1H
X-Robots-Tag:noindex
X-PUBLISHED-TTL:PT1H
BEGIN:VTIMEZONE
TZID:America/Los_Angeles
BEGIN:DAYLIGHT
TZOFFSETFROM:-0800
TZOFFSETTO:-0700
TZNAME:PDT
DTSTART:20210314T100000
END:DAYLIGHT
BEGIN:STANDARD
TZOFFSETFROM:-0700
TZOFFSETTO:-0800
TZNAME:PST
DTSTART:20211107T090000
END:STANDARD
BEGIN:DAYLIGHT
TZOFFSETFROM:-0800
TZOFFSETTO:-0700
TZNAME:PDT
DTSTART:20220313T100000
END:DAYLIGHT
BEGIN:STANDARD
TZOFFSETFROM:-0700
TZOFFSETTO:-0800
TZNAME:PST
DTSTART:20221106T090000
END:STANDARD
BEGIN:DAYLIGHT
TZOFFSETFROM:-0800
TZOFFSETTO:-0700
TZNAME:PDT
DTSTART:20230312T100000
END:DAYLIGHT
BEGIN:STANDARD
TZOFFSETFROM:-0700
TZOFFSETTO:-0800
TZNAME:PST
DTSTART:20231105T090000
END:STANDARD
BEGIN:DAYLIGHT
TZOFFSETFROM:-0800
TZOFFSETTO:-0700
TZNAME:PDT
DTSTART:20240310T100000
END:DAYLIGHT
BEGIN:STANDARD
TZOFFSETFROM:-0700
TZOFFSETTO:-0800
TZNAME:PST
DTSTART:20241103T090000
END:STANDARD
BEGIN:DAYLIGHT
TZOFFSETFROM:-0800
TZOFFSETTO:-0700
TZNAME:PDT
DTSTART:20250309T100000
END:DAYLIGHT
BEGIN:STANDARD
TZOFFSETFROM:-0700
TZOFFSETTO:-0800
TZNAME:PST
DTSTART:20251102T090000
END:STANDARD
BEGIN:DAYLIGHT
TZOFFSETFROM:-0800
TZOFFSETTO:-0700
TZNAME:PDT
DTSTART:20260308T100000
END:DAYLIGHT
BEGIN:STANDARD
TZOFFSETFROM:-0700
TZOFFSETTO:-0800
TZNAME:PST
DTSTART:20261101T090000
END:STANDARD
END:VTIMEZONE
BEGIN:VEVENT
DTSTART;TZID=America/Los_Angeles:20250719T150000
DTEND;TZID=America/Los_Angeles:20250719T220000
DTSTAMP:20260425T074704
CREATED:20241216T022937Z
LAST-MODIFIED:20250603T122741Z
UID:4943-1752937200-1752962400@ecv1846.com
SUMMARY:MV 1846 ECV 2025 Widders Ball American Legion Post 593
DESCRIPTION:
URL:https://ecv1846.com/event/mv-1846-ecv-2025-widders-ball-american-legion-post-593/
LOCATION:American Legion Post 593\, 8392 Prunedale North Road\, Prunedale\, CA\, 93907\, United States
CATEGORIES:Doins,Widders Ball
ATTACH;FMTTYPE=image/jpeg:https://ecv1846.com/wp-content/uploads/2024/12/AmericanLegion593-e1734316167433.jpg
END:VEVENT
BEGIN:VEVENT
DTSTART;TZID=America/Los_Angeles:20250411T120000
DTEND;TZID=America/Los_Angeles:20250413T170000
DTSTAMP:20260425T074704
CREATED:20241216T020741Z
LAST-MODIFIED:20250118T200647Z
UID:4930-1744372800-1744563600@ecv1846.com
SUMMARY:MV 1846 ECV 2025 Spring Doins McAlpine Lake
DESCRIPTION:
URL:https://ecv1846.com/event/mv-1846-ecv-2025-spring-doins-mcalpine-lake/
LOCATION:McAlpine Lake\, 900 Anzar Road\, San Juan Bautista\, CA\, 95045\, United States
CATEGORIES:Doins
ATTACH;FMTTYPE=image/png:https://ecv1846.com/wp-content/uploads/2024/12/2025SpringQR.png
END:VEVENT
BEGIN:VEVENT
DTSTART;VALUE=DATE:20250208
DTEND;VALUE=DATE:20250209
DTSTAMP:20260425T074704
CREATED:20241216T020146Z
LAST-MODIFIED:20250205T013231Z
UID:4923-1738972800-1739059199@ecv1846.com
SUMMARY:LSD3 ECV 2025 Bean Feed
DESCRIPTION:Usually second Saturday in February
URL:https://ecv1846.com/event/lsd3-ecv-2025-bean-feed/
LOCATION:CA
CATEGORIES:Doins
END:VEVENT
BEGIN:VEVENT
DTSTART;VALUE=DATE:20250111
DTEND;VALUE=DATE:20250112
DTSTAMP:20260425T074704
CREATED:20241216T014633Z
LAST-MODIFIED:20241216T014714Z
UID:4917-1736553600-1736639999@ecv1846.com
SUMMARY:YB1 ECV 2025 Norton Day\, Colma Ca
DESCRIPTION:YB1 Emperor Norton Day \nSaturday\, January 11th\, 6030 \nOld Malloy’s Tavern \n1655 Mission Road \nColma\, Alta California \nJollification and Speechifying at 9:31AM \nEmperor Norton’s Gravesite \nWoodlawn Cemetery
URL:https://ecv1846.com/event/yb1-ecv-2025-norton-day-colma-ca/
LOCATION:Malloys Tavern\, 1655 Mission Rd Ste 6\, Colma\, CA\, 94080\, United States
CATEGORIES:Doins
ATTACH;FMTTYPE=image/jpeg:https://ecv1846.com/wp-content/uploads/2024/12/Emperor-Norton--e1734313488460.jpg
END:VEVENT
BEGIN:VEVENT
DTSTART;TZID=America/Los_Angeles:20241206T180000
DTEND;TZID=America/Los_Angeles:20241206T220000
DTSTAMP:20260425T074704
CREATED:20231207T181352Z
LAST-MODIFIED:20241205T135100Z
UID:4434-1733508000-1733522400@ecv1846.com
SUMMARY:MV 1846 ECV 2024 Passing of the Staff
DESCRIPTION:Monterey Viejo 1846 \nPassing of the Staff \nDecember 6th\, 2024 -6029 6PM \nAttention Red Shirts!! \nRub is: $25.00 \nOur NGH Jeremy Shipp will be passing the staff to our incoming (Insert Name) in a grand ceremony at: \nAmerican Legion Post 694 \nAddress: 694 American Legion Way\, Marina\, CA 93933. \nWe’ve been here before. If you haven’t click on the google map link and directions will be provided on your smart device. \nCanned food drive and donations for the toy drive can be brought to the meeting. \nBring extra gold dust for a stupendous raffle. \nQuestions? Concerns? contact NGH Jeremy Shipp: (916)519-7852
URL:https://ecv1846.com/event/mv-1846-ecv-2024-passing-of-the-staff/
LOCATION:American Legion Post 694\, 694 Legion Way\, Marina\, CA\, 93933\, United States
CATEGORIES:Doins
ATTACH;FMTTYPE=image/jpeg:https://ecv1846.com/wp-content/uploads/2023/12/2024PassingStaff-e1733406638357.jpg
END:VEVENT
BEGIN:VEVENT
DTSTART;TZID=America/Los_Angeles:20241004T120000
DTEND;TZID=America/Los_Angeles:20241006T100000
DTSTAMP:20260425T074704
CREATED:20231206T233711Z
LAST-MODIFIED:20241002T024519Z
UID:4429-1728043200-1728208800@ecv1846.com
SUMMARY:MV 1846 ECV 2024 Fall Doins McAlpine Lake (Trout Pond)
DESCRIPTION:  \nMonterey Viejo 1846 Fall Doins at McAlpine Lake\nOct 4th-6th 2024 CY 6029\nGate open Friday at 11AM. Friday night is Beluga Brothers. Our incomparable cooking crew\, headed by Clamp Chef Matt White will prepare three square meals for your gluttonous delights on Saturday and breakfast on Sunday. Our illustrious Hawker Dylan Tortolani will have a stupendous new shirt of the day along with his other wondrous trinkets. Save some gold dust for Rafflemeister Antonino Hamburglar Moya and his always stupendous Raffle. Our Hangman Mark Testicles Hammonds and his crew will hang ’em high. Get your clean and sober PBC’s there by 9:00 AM Saturday Morning! \nMclApline Lake and Park\n900 Anzar Rd\, San Juan Bautista\, CA 95045 \nIf you plan on bringing an RV message the Humbug Jeremy Shipp (916)519-7852 so he can make arrangements. \nPer Vice Shep: Goodmorning Brothers.!!This weekend at are Fall Doins at McAlpine we need to plant 9 trees.!! Redwoods. Can we get some shovels post hole diggers digging equipment to let the PBC’s use to dig holes. Myself I’ll be digging to I want to see us use McAlpine for Doins & Family Days so to add trees by the Clampers will be something we can watch grow over the years. We have a great partnership with Chase & I want use to build that even stronger by helping him out.!! Thank you Brothers.! \nPer Brother John Wrobel: Looks like we will be re-dedicating the new plaque at the historical park with the Girl Scouts on Friday 4 Oct at 4pm. We will discuss the brief history of the formation of San Benito County\, and the Girl Scouts will insert their time capsule into the monument\, to be opened 50 years in the future.\nThe San Benito County supervisors and employees will be present along with as many of us as care to be there.\nMany thanks to Ron Bonvie who put the monument together with a kickoff by Mr Cromeenes\, and Villalobos who built the base.\n\nPer Noble Recorder Frank Sanchez: Going to Donate this Wooden art piece with the Clamper’s Creed to the Raffle for our Fall doins. Our Rafflemeister Antonino Moya Nungaray will be holding a special $10.00 a ticket for this piece. The money raised will be going towards helping RIP David Ledwell’s family. Thank you that is all.\n\nThe Rub for this stupendous event with 4 squares will be:\nPrepay for Redshirts Only: $70.00 (First 100 Redshirts to prepay will get a madnificient coin of the day. Prepay ends Sept. 24th 2024)\nRedshirt Price Day of $80.00\nPBC’s and Retread: $100.00 \nOf course ALL G.C. No No’s Apply!!!! No guns\, long knives\, explosives\, Widders\, Orphans\, Dogs\, and of course no fighting. All G.C. rules will be observed!!! The minimum age for PBC’s to join Monterey Viejo 1846 is 25\, there are no exceptions to this. You must be a member in good standing of Monterey Viejo 1846 if you are sponsoring a PBC. PBCs and Retreads must have an ID at registration\, no exceptions. They may be asked on Friday night by officers and if they don’t have ID they will be escorted off Clampsite. Again\, NO EXCEPTIONS.\nQuestions? Comments? Concerns?\nCall NGH Jeremy Shipp @ (916) 519-7852 \n 
URL:https://ecv1846.com/event/mv-1846-ecv-2024-fall-doins-mcalpine-lake-trout-pond/
LOCATION:McAlpine Lake\, 900 Anzar Road\, San Juan Bautista\, CA\, 95045\, United States
CATEGORIES:Doins
ATTACH;FMTTYPE=image/jpeg:https://ecv1846.com/wp-content/uploads/2023/12/ccc3fe61-06cd-425a-9267-111e8d5c3417.jpg
END:VEVENT
BEGIN:VEVENT
DTSTART;TZID=America/Los_Angeles:20240712T180000
DTEND;TZID=America/Los_Angeles:20240712T220000
DTSTAMP:20260425T074704
CREATED:20231206T233204Z
LAST-MODIFIED:20240413T140833Z
UID:4426-1720807200-1720821600@ecv1846.com
SUMMARY:MV 1846 ECV 2024 Candlelight Azevedo Ranch
DESCRIPTION:[embeddoc url=”https://ecv1846.com/wp-content/uploads/2023/12/candlelight2024flyer-1.pdf”]
URL:https://ecv1846.com/event/mv-1846-ecv-2024-candlelight-azevedo-ranch/
LOCATION:Azevedo Ranch\, 337 Ricardo Drive\, Aromas\, CA\, 95004\, United States
CATEGORIES:Doins
END:VEVENT
BEGIN:VEVENT
DTSTART;TZID=America/Los_Angeles:20240622T080000
DTEND;TZID=America/Los_Angeles:20240622T170000
DTSTAMP:20260425T074704
CREATED:20240128T220005Z
LAST-MODIFIED:20240617T132746Z
UID:4534-1719043200-1719075600@ecv1846.com
SUMMARY:MV 1846 ECV 2024 June Hollister Horse Parade
DESCRIPTION:2024 DOWNTOWN PARADE\nDate & Time:\nSaturday\, June 22nd\, 2024 at 11:00 am\nLocation & Route:\nDowntown Hollister\, San Benito Street\nStart at Haydon and San Benito Streets. Proceed north on San Benito Street to Fifth Street in downtown Hollister. Length: One mile. \nParade Details: 50 + Community entries will include marching bands\, floats\, horsemen and horsewomen (some in the Old Vaquero Tradition)\, 2024 Miss San Benito Rodeo\, wagons and many commu \n  \n  \nFrom David Shepherd JR: \nReminder that there will be a General Meeting after the Hollister Horse Parade at Grillin & Chillin Alehouse. It is Widder & Orphan Friendly.!!\nJust going to be a little review & get ready for Candlelight.!!\nJune 22 after the Parade.!!\nWe are walking in the Parade too meeting at 10am on Monterey Street.!!\nLet’s walk & build up the greatness which is ECV.!!
URL:https://ecv1846.com/event/mv-1846-ecv-2024-june-hollister-horse-parade/
LOCATION:Hollister Horse Show Staging Area\, Monterey Street\, Hollister\, CA\, 95023\, United States
CATEGORIES:Doins,Parade
END:VEVENT
BEGIN:VEVENT
DTSTART;TZID=America/Los_Angeles:20240517T080000
DTEND;TZID=America/Los_Angeles:20240519T170000
DTSTAMP:20260425T074704
CREATED:20240128T215614Z
LAST-MODIFIED:20240128T215621Z
UID:4526-1715932800-1716138000@ecv1846.com
SUMMARY:Grand Council in Sonora\, CA
DESCRIPTION:
URL:https://ecv1846.com/event/grand-council-in-sonor-ca/
LOCATION:CA
CATEGORIES:Doins
END:VEVENT
BEGIN:VEVENT
DTSTART;TZID=America/Los_Angeles:20240405T120000
DTEND;TZID=America/Los_Angeles:20240407T100000
DTSTAMP:20260425T074704
CREATED:20231206T232940Z
LAST-MODIFIED:20240224T174537Z
UID:4424-1712318400-1712484000@ecv1846.com
SUMMARY:MV 1846 ECV 2024 Spring Doins Bolado Park
DESCRIPTION:We will be in Area 1 not Area 4. Please be aware that the location has changed from where we normally camp so be advised that it will be a different entrance than expected. Look for a DFDK and signs pointing to the correct entrance to use. \n  \n1846SpringDoins2024 Flyer
URL:https://ecv1846.com/event/mv-1846-ecv-2024-spring-doins-bolado-park/
LOCATION:Bolado Park\, 9000 Airline Highway\, Hollister\, CA\, 95075\, United States
CATEGORIES:Doins
END:VEVENT
BEGIN:VEVENT
DTSTART;TZID=America/Los_Angeles:20240210T080000
DTEND;TZID=America/Los_Angeles:20240210T170000
DTSTAMP:20260425T074704
CREATED:20240128T165644Z
LAST-MODIFIED:20240128T165743Z
UID:4497-1707552000-1707584400@ecv1846.com
SUMMARY:LSD 3 ECV Bean Feed In Auburn CA
DESCRIPTION:
URL:https://ecv1846.com/event/lsd-3-ecv-bean-feed-in-auburn-ca/
LOCATION:Gold Country Fairgrounds – Auburn\, 1273 High Street\, Auburn\, CA\, 95603\, United States
CATEGORIES:Doins
END:VEVENT
BEGIN:VEVENT
DTSTART;TZID=America/Los_Angeles:20231201T180000
DTEND;TZID=America/Los_Angeles:20231201T220000
DTSTAMP:20260425T074704
CREATED:20230311T180615Z
LAST-MODIFIED:20231129T150937Z
UID:4203-1701453600-1701468000@ecv1846.com
SUMMARY:MV 1846 ECV 2023 Passing of the Staff
DESCRIPTION:Passingstaff2023
URL:https://ecv1846.com/event/mv-1846-ecv-2023-passing-of-the-staff/
LOCATION:American Legion Post 694\, 694 Legion Way\, Marina\, CA\, 93933\, United States
CATEGORIES:Doins
END:VEVENT
BEGIN:VEVENT
DTSTART;TZID=America/Los_Angeles:20231020T110000
DTEND;TZID=America/Los_Angeles:20231022T113000
DTSTAMP:20260425T074704
CREATED:20230311T180340Z
LAST-MODIFIED:20231001T132106Z
UID:4199-1697799600-1697974200@ecv1846.com
SUMMARY:MV 1846 ECV 2023 Fall Doins Bolado Park Tres Pinos
DESCRIPTION:Pre-Pays Make Payable to:\nMonterey Viejo 1846\n\nAnd send to this address\nPO Box 4912\nSalinas\, CA 93912\n\n\nPlease Note Attendees Inside Flap of envelope\n\n\nANNOUNCEMENT!!\nThere will be a special raffle for a wood burn done by non-other than our own Frank “Gunshow” Sanchez. See a pic of the unfinished wood burn below. Dimensions are roughly 12″x 12″. Tickets available at the Fall Doins for raffle for $10 a piece. Proceeds to be donated to our Brother Daniel Garcia. Please see website for an image of the wood burn.\n\n \n\n 
URL:https://ecv1846.com/event/mv-1846-ecv-2023-fall-doins-bolado-park-tres-pinos/
LOCATION:Bolado Park\, 9000 Airline Highway\, Hollister\, CA\, 95075\, United States
CATEGORIES:Doins
END:VEVENT
BEGIN:VEVENT
DTSTART;TZID=America/Los_Angeles:20230728T180000
DTEND;TZID=America/Los_Angeles:20230728T220000
DTSTAMP:20260425T074704
CREATED:20230311T175349Z
LAST-MODIFIED:20230522T031448Z
UID:4186-1690567200-1690581600@ecv1846.com
SUMMARY:MV 1846 ECV 2023 Candlelight
DESCRIPTION:
URL:https://ecv1846.com/event/mv-1846-ecv-2023-candlelight/
LOCATION:Azevedo Ranch\, 337 Ricardo Drive\, Aromas\, CA\, 95004\, United States
CATEGORIES:Doins
END:VEVENT
BEGIN:VEVENT
DTSTART;TZID=America/Los_Angeles:20230414T110000
DTEND;TZID=America/Los_Angeles:20230416T110000
DTSTAMP:20260425T074704
CREATED:20221203T162938Z
LAST-MODIFIED:20230402T135838Z
UID:4120-1681470000-1681642800@ecv1846.com
SUMMARY:MV 1846 ECV Spring Doins 2023- Don Chapin Friggin' International Airport
DESCRIPTION:Monterey Viejo 1846’s Spring Doin’s At Don Chapin’s Friggin’ International Airport April 14th – 16th 2023/6028 \nGates open Friday at 11AM. Friday night is Beluga Brothers. Our incomparable cooking crew\, headed by Matt White will prepare three square meals for your gluttonous delights on Saturday and breakfast on Sunday. \nOur illustrious Hawker Dylan Tortolani will have a stupendous new shirt of the day along with his other wondrous trinkets. \nSave some gold dust for Rafflemeister Chance Serrano and his always stupendous Raffle. \nOur Hangman Terry Gnome Suchan and his crew will hang ’em high. Get your clean and sober PBC’s there by 9:00 a.m. Saturday morning! \nJust drive on Highway 101 to Greenfield\, get off at the Oak Street Exit. Drive a couple of blocks south to Elm Street\, then head east till you can’t go no more\, about 2.5 miles. Turn right to the south on Metz Road. Go another mile and you should see the Airstrip on the right if you’re not blind. \nThe rub for this stupendous event will be: $80.00 for Red Shirts $120.00 for PBCs & Retreads \nOf course ALL G.C. No No’s Apply!!! No guns\, long knives\, explosives\, Widders\, Orphins\, dogs\, and of course no fighting. All G.C. rules will be observed!!! The minimum age for PBC’s to join Monterey Viejo 1846 is 25\, there are no exceptions to this if you are sponsoring a PBC. They must have an ID at registration\, no exceptions. They may be asked on Friday night by officers and if they don’t have ID they will be escorted off Clampsite. Again\, NO EXCEPTIONS. \nQuestions? Comments? Concerns? Call NGH Mark Yotsuya @ 209-585-5482 \nSend Prepays by Check by 4/9/23 to PO Box 4912 Salinas\, CA 93912 Payable to Monterey Viejo 1846 \nThis just in from David Shepherd Jr 3/17/23. “Prepay is $65 bucks but only until the 9th” Pay at a general meeting with cash or check or send a check to the PO Box above.
URL:https://ecv1846.com/event/mv-1846-ecv-spring-doins-2023-don-chapin-friggin-international-airport/
LOCATION:Don Chapin Friggin’ International Airport\, 40500 Metz-King City Rd\, Greenfield\, CA\, 93927\, United States
CATEGORIES:Doins
ORGANIZER;CN="Mark Yotsuya":MAILTO:madmaxx3937@msn.com
END:VEVENT
BEGIN:VEVENT
DTSTART;VALUE=DATE:20230211
DTEND;VALUE=DATE:20230212
DTSTAMP:20260425T074704
CREATED:20221203T160323Z
LAST-MODIFIED:20230205T151212Z
UID:4110-1676073600-1676159999@ecv1846.com
SUMMARY:Bean Feed LSD3 Auburn 2023
DESCRIPTION:THE HEWGAG BRAYS!!! \nTHE LORD SHOLTO DOUGLAS ANNUAL BEAN FEED AND HAWKERS FAIRE\, FEBRUARY 11th\, 2023/6028 \nBrethren!!! It is time once again to head to the Placer County Gold Country Fairgrounds loacted at 209 Fairgate Road\, Auburn\, CA 95603\, to feast upon the beans from each of our chapters of E Clampus Vitus from both far and near!!!! As per usual\, we will have Chapter and Redshirt Open entries to see who has the best beans. Activities will include the following: \n\nBeer Chug\nBest Whiskers (Finest Beard in Clamperdom!)\nBest Chapter Beans\nBest Redshirt Open Beans\nWorst Beans in all of Clamperdom (Ohhhhh the Horrors of Humbuggery!!!!)\nRaffle (Best swag you will find anywhere!!!)\n\nThe Rub will be $30 dollars pre-pay\, $35 dollars at the door to enjoy all the beans and imbibe on all of the beer from the Little Slippery you can!!!! Hawkers\, please donate a $30 dollars worth donation to our Raffle\, associate Hawkers pay $20 rub. For the competitors\, Chapter entries and Redshirt Open are $30 dollars for a 3 man crew. Each crew will need to make 5 gallons of beans\, with one of those gallons to be submitted for judgement by our esteemed\, if not rather gaseous\, panel of X-Humbugs. Each crew will need to have all of their own cook equipment\, supplies\, and fire extinguisher. ALL COOKING MUST BE DONE OUTDOORS!! \nSend Pre-Pays to: \nLord Sholto Douglas \nPO Box 9032 \nAuburn\, CA 95604
URL:https://ecv1846.com/event/bean-feed-lsd3-auburn-2023/
LOCATION:Gold Country Fairgrounds – Auburn\, 1273 High Street\, Auburn\, CA\, 95603\, United States
CATEGORIES:Doins
ATTACH;FMTTYPE=image/png:https://ecv1846.com/wp-content/uploads/2022/12/LDF32023BFLogo.png
ORGANIZER;CN="Mark Yotsuya":MAILTO:madmaxx3937@msn.com
END:VEVENT
BEGIN:VEVENT
DTSTART;TZID=America/Los_Angeles:20221202T180000
DTEND;TZID=America/Los_Angeles:20221202T220000
DTSTAMP:20260425T074704
CREATED:20221112T182138Z
LAST-MODIFIED:20221112T184646Z
UID:4091-1670004000-1670018400@ecv1846.com
SUMMARY:MV1846 ECV - Passing of the Staff 2022
DESCRIPTION:MV1846 ECV Passing of Staff 2022 \nAttention Brothers \nMonterey Viejo 1846 E Clampus Vitus Passing the Staff….. \nDecember 2\, 2022 6PM \nAmerican Legion Post 694 \n694 Legion Way\, Marina 93933 \nRub: $20.00 per red shirt – This event is not free as the publication states at the top. \nBring a toy for the toy drive and a can of non-perishable sustenance for the food drive.
URL:https://ecv1846.com/event/mv1846-ecv-passing-of-the-staff-2022/
LOCATION:American Legion Post 694\, 694 Legion Way\, Marina\, CA\, 93933\, United States
CATEGORIES:Doins
ORGANIZER;CN="Mark Yotsuya":MAILTO:madmaxx3937@msn.com
END:VEVENT
BEGIN:VEVENT
DTSTART;TZID=America/Los_Angeles:20220923T120000
DTEND;TZID=America/Los_Angeles:20220925T120000
DTSTAMP:20260425T074704
CREATED:20220910T025314Z
LAST-MODIFIED:20220910T042751Z
UID:4064-1663934400-1664107200@ecv1846.com
SUMMARY:1846 - 2022 - Fall Doins Lovers Lane
DESCRIPTION:1846 – 2022 – Fall Doins Lovers Lane\n\nThe Hewgag Brays yet again Monterey Viejo 1846 @ NGH Mikee “the one who has yet to be handled” Rosas invites all brothers near and far to join him and his officers for the most proper and extravagant fall doins September 23-25th at an all new location that is looking to rival our legendary PW Ranch @ 7958 Lover Lane\, Hollister\, CA. \nLots of room for RV’s and Fifth Wheels plenty of orchard to pop your tents in. Be entertained by your Hangman Frank the gunshow Sanchez’s professional hanging with the rest of his crew. \nBeing nourished by the White’s exquisite viddles. \nBring extra gold dust to acquire all the new inventory of goods our hawker has to offer or load up on raffle tickets from our raffle meister and try your luck. \nAll grand Council rules apply: no guns\, no long knives\, no dogs\, no bad attitudes\, no exceptions. \n80 for redshirts\, 120 for PBC and retreads. All PBC and retreads need to be turned in at 8:00 AM Saturday morning clean and sober. \nThis Event is not Free. \n 
URL:https://ecv1846.com/event/1846-2022-fall-doins-lovers-lane/
LOCATION:Lover’s Lane\, 7958 Lover Lane\, Hollister\, CA\, 95023\, United States
CATEGORIES:Doins
ORGANIZER;CN="Mikee Rosas":MAILTO:mikeedamechanic@gmail.com
END:VEVENT
END:VCALENDAR