BEGIN:VCALENDAR
VERSION:2.0
PRODID:-//Monterey Viejo ECV® 1846 - ECPv6.15.20//NONSGML v1.0//EN
CALSCALE:GREGORIAN
METHOD:PUBLISH
X-ORIGINAL-URL:https://ecv1846.com
X-WR-CALDESC:Events for Monterey Viejo ECV® 1846
REFRESH-INTERVAL;VALUE=DURATION:PT1H
X-Robots-Tag:noindex
X-PUBLISHED-TTL:PT1H
BEGIN:VTIMEZONE
TZID:America/Los_Angeles
BEGIN:DAYLIGHT
TZOFFSETFROM:-0800
TZOFFSETTO:-0700
TZNAME:PDT
DTSTART:20220313T100000
END:DAYLIGHT
BEGIN:STANDARD
TZOFFSETFROM:-0700
TZOFFSETTO:-0800
TZNAME:PST
DTSTART:20221106T090000
END:STANDARD
BEGIN:DAYLIGHT
TZOFFSETFROM:-0800
TZOFFSETTO:-0700
TZNAME:PDT
DTSTART:20230312T100000
END:DAYLIGHT
BEGIN:STANDARD
TZOFFSETFROM:-0700
TZOFFSETTO:-0800
TZNAME:PST
DTSTART:20231105T090000
END:STANDARD
BEGIN:DAYLIGHT
TZOFFSETFROM:-0800
TZOFFSETTO:-0700
TZNAME:PDT
DTSTART:20240310T100000
END:DAYLIGHT
BEGIN:STANDARD
TZOFFSETFROM:-0700
TZOFFSETTO:-0800
TZNAME:PST
DTSTART:20241103T090000
END:STANDARD
BEGIN:DAYLIGHT
TZOFFSETFROM:-0800
TZOFFSETTO:-0700
TZNAME:PDT
DTSTART:20250309T100000
END:DAYLIGHT
BEGIN:STANDARD
TZOFFSETFROM:-0700
TZOFFSETTO:-0800
TZNAME:PST
DTSTART:20251102T090000
END:STANDARD
BEGIN:DAYLIGHT
TZOFFSETFROM:-0800
TZOFFSETTO:-0700
TZNAME:PDT
DTSTART:20260308T100000
END:DAYLIGHT
BEGIN:STANDARD
TZOFFSETFROM:-0700
TZOFFSETTO:-0800
TZNAME:PST
DTSTART:20261101T090000
END:STANDARD
END:VTIMEZONE
BEGIN:VEVENT
DTSTART;TZID=America/Los_Angeles:20250222T120000
DTEND;TZID=America/Los_Angeles:20250222T140000
DTSTAMP:20260423T115435
CREATED:20250125T225656Z
LAST-MODIFIED:20250221T220848Z
UID:4975-1740225600-1740232800@ecv1846.com
SUMMARY:MV 1846 ECV February General Meeting
DESCRIPTION:Your illustrious Humbug invites all brothers\, in good standing\, to our first meeting of the year. Below you will find the where’s and when’s. Also a reminder to bring extra gold dust for our ever splended raffle. Any donation of canned foods and perishables are welcome. If you would like to donate items for the easter baskets we will be accepting donations at this meeting as well. See you brothers out there.\nAt AlehouseFeb. 22nd 2025Rub: $25.00Burger and fries.\nTime will be from 12 noon to 2pm.\n\n 
URL:https://ecv1846.com/event/mv-1846-ecv-february-general-meeting-2/
LOCATION:Grillin & Chillin Alehouse\, 401 McCray St Unit B24\, Hollister\, CA\, 95023\, United States
CATEGORIES:General Meeting
ORGANIZER;CN="David Shep Shepherd Jr":MAILTO:davidshepherdjr88@gmail.com
END:VEVENT
BEGIN:VEVENT
DTSTART;TZID=America/Los_Angeles:20240920T180000
DTEND;TZID=America/Los_Angeles:20240920T220000
DTSTAMP:20260423T115435
CREATED:20240128T220827Z
LAST-MODIFIED:20240914T211114Z
UID:4549-1726855200-1726869600@ecv1846.com
SUMMARY:MV 1846 ECV 2024 September General Meeting
DESCRIPTION:
URL:https://ecv1846.com/event/mv-1846-ecv-2024-september-general-meeting/
LOCATION:English Ales – Marina\, 223 Reindollar Ave\, Marina\, CA\, 93933-3851\, United States
CATEGORIES:General Meeting
ATTACH;FMTTYPE=image/jpeg:https://ecv1846.com/wp-content/uploads/2024/01/Sept-General-Meeting-2024.jpg
END:VEVENT
BEGIN:VEVENT
DTSTART;TZID=America/Los_Angeles:20240816T180000
DTEND;TZID=America/Los_Angeles:20240816T220000
DTSTAMP:20260423T115435
CREATED:20240128T220538Z
LAST-MODIFIED:20240814T142400Z
UID:4543-1723831200-1723845600@ecv1846.com
SUMMARY:MV 1846 ECV 2024 August General Meeting
DESCRIPTION:Per Frank Sanchez: \nOur next General meeting will be on August 16th 2024 and it will held at:\nTaquitos Mexican Restaurant923 N.Main StreetSalinas\, 93906\nStart Time: 18:46Rub: $25.00\nYou will have three different options for food items.\nSeeya there.
URL:https://ecv1846.com/event/mv-1846-ecv-2024-august-general-meeting/
LOCATION:Taquitos Mexican Restaurant\, 923 N Main Street\, Salinas\, CA\, 93906\, United States
CATEGORIES:General Meeting
END:VEVENT
BEGIN:VEVENT
DTSTART;TZID=America/Los_Angeles:20240524T180000
DTEND;TZID=America/Los_Angeles:20240524T180000
DTSTAMP:20260423T115435
CREATED:20240128T215738Z
LAST-MODIFIED:20240128T215738Z
UID:4529-1716573600-1716573600@ecv1846.com
SUMMARY:MV 1846 ECV 2024 May General Meeting
DESCRIPTION:
URL:https://ecv1846.com/event/mv-1846-ecv-2024-may-general-meeting/
CATEGORIES:General Meeting
END:VEVENT
BEGIN:VEVENT
DTSTART;TZID=America/Los_Angeles:20240315T180000
DTEND;TZID=America/Los_Angeles:20240315T200000
DTSTAMP:20260423T115435
CREATED:20240128T170343Z
LAST-MODIFIED:20240312T024757Z
UID:4507-1710525600-1710532800@ecv1846.com
SUMMARY:MV 1846 ECV 2024 March General Meeting
DESCRIPTION:Come on out to our March General Meeting. It will be at T & A Café\, home of the Kleinfeldt Family BBQ.\nRub is $25.00\nTri-Tip Sandwiches & Fries\n***BYOB***\n**They are closing early to host our event.**\nWe will be collecting Easter Egg Baskets for Jesse G Sanchez Elementary School in Salinas. Need 200 baskets. Deadline is March 20th. \nSee less
URL:https://ecv1846.com/event/mv-1846-ecv-2024-march-general-meeting/
LOCATION:Kleinfeldt Family BBQ\, 1 Harris Road\, Salinas\, CA\, 93908\, United States
CATEGORIES:General Meeting
END:VEVENT
BEGIN:VEVENT
DTSTART;TZID=America/Los_Angeles:20240223T183000
DTEND;TZID=America/Los_Angeles:20240223T220000
DTSTAMP:20260423T115435
CREATED:20240128T170003Z
LAST-MODIFIED:20240204T094120Z
UID:4501-1708713000-1708725600@ecv1846.com
SUMMARY:MV 1846 ECV 2024 February General Meeting
DESCRIPTION:A reminder.Easter Baskets will be collected at our next couple Meetings.We will take supplies\, donations\, candyDeadline March 20thLooking to collect 200.Baskets will be donated to Jesse G Sanchez Elementary School I Salinas\, Ca.
URL:https://ecv1846.com/event/mv-1846-ecv-2024-february-general-meeting/
LOCATION:101 Wine Press\, 8049 San Miguel Cyn Rd\, Prunedale\, CA\, 93907\, United States
CATEGORIES:General Meeting
END:VEVENT
BEGIN:VEVENT
DTSTART;TZID=America/Los_Angeles:20240119T184600
DTEND;TZID=America/Los_Angeles:20240119T220000
DTSTAMP:20260423T115435
CREATED:20240117T041013Z
LAST-MODIFIED:20240117T202437Z
UID:4484-1705689960-1705701600@ecv1846.com
SUMMARY:MV 1846 ECV 2024 January General Meeting
DESCRIPTION:Shipp \nCome on out for the first meeting of the year at the Round Table in Seaside.\nRub is $25.00\n\nFrom your new Raffle Meister:\nHow’s it going brothers? Hope you guys are ready for this year. I’m your New Raffle Meister and I have some good prizes for this year\, so be ready and save all your gold dust for the 1846 Doins. But this Friday we are going to have a meeting and I will have a few items available\, so bring plenty of gold dust. Whatever I make off the table its all going towards our brother Daniel Garcia and If you guys have anything to contribute\, you’re more than welcome hope everyone has a satisfactory day. see you all at the meeting 💪🏾\n\nPer Shep our vice the chapter is matching on the Raffle so bring some dust with you.
URL:https://ecv1846.com/event/mv-1846-ecv-2024-january-general-meeting/
LOCATION:Round Table Seaside\, 1717 Fremont Blvd\, Seaside\, CA\, 93955\, United States
CATEGORIES:General Meeting
END:VEVENT
BEGIN:VEVENT
DTSTART;TZID=America/Los_Angeles:20230921T184500
DTEND;TZID=America/Los_Angeles:20230921T210000
DTSTAMP:20260423T115435
CREATED:20230311T180023Z
LAST-MODIFIED:20230922T125828Z
UID:4193-1695321900-1695330000@ecv1846.com
SUMMARY:MV 1846 ECV September General Meeting
DESCRIPTION:It’s meeting time again…\nSeptember 21st.\nEnglish Ales\n223 Reindollar Ave\nMarina 93933\nRub 25\nTime 6:46\nCome on & see your Brothers.!!\nDon’t forget Widders Ball pre pay.!! 100 couple get your money in only 50 couples\nAlso prepays for fall doins at Bolado: Prepay price for Redshirts only is $65. PBC’s and Retreads Pay Full Price of $120
URL:https://ecv1846.com/event/mv-1846-ecv-september-general-meeting/
LOCATION:English Ales – Marina\, 223 Reindollar Ave\, Marina\, CA\, 93933-3851\, United States
CATEGORIES:General Meeting
ORGANIZER;CN="Mark Yotsuya":MAILTO:madmaxx3937@msn.com
END:VEVENT
BEGIN:VEVENT
DTSTART;TZID=America/Los_Angeles:20230816T184600
DTEND;TZID=America/Los_Angeles:20230816T210000
DTSTAMP:20260423T115435
CREATED:20230813T212454Z
LAST-MODIFIED:20230815T030120Z
UID:4320-1692211560-1692219600@ecv1846.com
SUMMARY:MV 1846 ECV - August General Meeting - Grillin and Chillin Alehouse
DESCRIPTION:General Meeting\nAugust 16\nWednesday\nTime: 18:46 or 6:46 if you don’t know.\nRub: 25\nGrillin & Chillin Alehouse\nHollister
URL:https://ecv1846.com/event/mv-1846-ecv-august-general-meeting-grillin-and-chillin-alehouse/
LOCATION:Grillin & Chillin Alehouse\, 401 McCray St Unit B24\, Hollister\, CA\, 95023\, United States
CATEGORIES:General Meeting
END:VEVENT
BEGIN:VEVENT
DTSTART;TZID=America/Los_Angeles:20230525T180000
DTEND;TZID=America/Los_Angeles:20230525T210000
DTSTAMP:20260423T115435
CREATED:20230311T175151Z
LAST-MODIFIED:20230525T142405Z
UID:4182-1685037600-1685048400@ecv1846.com
SUMMARY:MV 1846 ECV 2023 May General Meeting
DESCRIPTION:General Meeting\nMay 25th 6pm\nJohnny’s\n526 San Benito St\nHollister\nRub 25\nCheeses burgers 🍔 fries.
URL:https://ecv1846.com/event/mv-1846-ecv-2023-may-general-meeting/
LOCATION:Johnnys\, 526 San Benito Street\, Hollister\, United States
CATEGORIES:General Meeting
END:VEVENT
BEGIN:VEVENT
DTSTART;TZID=America/Los_Angeles:20230330T180000
DTEND;TZID=America/Los_Angeles:20230330T200000
DTSTAMP:20260423T115435
CREATED:20230321T042150Z
LAST-MODIFIED:20230321T043355Z
UID:4215-1680199200-1680206400@ecv1846.com
SUMMARY:MV 1846 ECV - March General Meeting
DESCRIPTION:Greettings and Salutations.!!!\nOur Monterey Viejo 1846 NGH Mark Yotsuya and his Illustrious Officers invite you to\nOur March General Meeting\nto be held:\n\n\nThursday March 30th\, 2023 @\n\n\nEnglish Ales\n223 Reindollar Ave # A\,\nMarina\, CA 93933\n\n\nStart time: 6pm\n\n\nRub: $25.00\n\n\nTodd Leonard will be collecting Easter baskets\, so bring one.\n\n\nI will also be collecting cash prepays for our Spring Doins at Don Chapin’s Friggin International Airport.\nPrepay for Redshirts is $65.00.\n\n\nHave a great day.!! See you Brothers Soon.!!\n\n\nThis has been your 1846 GDR Frank Gunshow Sanchez\nQuestions. Comments. Concerns. Call the humbug at (209)585-5482
URL:https://ecv1846.com/event/mv-1846-ecv-march-general-meeting/
LOCATION:English Ales – Marina\, 223 Reindollar Ave\, Marina\, CA\, 93933-3851\, United States
CATEGORIES:General Meeting
ORGANIZER;CN="Frank Sanchez":MAILTO:8312079903@tmomail.net
END:VEVENT
BEGIN:VEVENT
DTSTART;TZID=America/Los_Angeles:20230216T180000
DTEND;TZID=America/Los_Angeles:20230216T200000
DTSTAMP:20260423T115435
CREATED:20230201T144330Z
LAST-MODIFIED:20230215T144151Z
UID:4157-1676570400-1676577600@ecv1846.com
SUMMARY:MV 1846 ECV - February General Meeting
DESCRIPTION:  \nFebruary General Meeting to be held at Grillin and Chillin \nAttention Brothers.!!!\nThe First Meeting of the year is here….\nGrillin & Chillin Alehouse\n401 McCray St Hollister 95023\n25 rub\n6pm February 16th Thursday\nCome see the new Humbug & his officers.!!\nHave a great evening.!! See you Brothers Soon.!!\n\n\nGreettings and Salutations.!!!\nOur Monterey Viejo 1846 GNH Mark Yotsuya and his Illustrious Officers invite you to\nTHE FIRST MEETING OF THE YEAR\nto be held:\n\n\nThursday February 16th\, 2023 @\n\n\nGrillin & Chillin Alehouse\n401 McCray St Hollister 95023\n\n\nStart time: 6pm\n\n\nRub: $25.00\n\n\nTodd Leonard will be collecting Easter baskets\, so bring one.\nHave a great evening.!! See you Brothers Soon.!!\n\n\nThis has been your 1846 GDR Frank Gunshow Sanchez\n\n\n 
URL:https://ecv1846.com/event/mv-1846-ecv-february-general-meeting/
LOCATION:Grillin & Chillin Alehouse\, 401 McCray St Unit B24\, Hollister\, CA\, 95023\, United States
CATEGORIES:General Meeting
ATTACH;FMTTYPE=image/jpeg:https://ecv1846.com/wp-content/uploads/2023/02/grillinandchillin.jpg
ORGANIZER;CN="David Shep Shepherd Jr":MAILTO:davidshepherdjr88@gmail.com
END:VEVENT
END:VCALENDAR