BEGIN:VCALENDAR
VERSION:2.0
PRODID:-//Monterey Viejo ECV® 1846 - ECPv6.15.20//NONSGML v1.0//EN
CALSCALE:GREGORIAN
METHOD:PUBLISH
X-WR-CALNAME:Monterey Viejo ECV® 1846
X-ORIGINAL-URL:https://ecv1846.com
X-WR-CALDESC:Events for Monterey Viejo ECV® 1846
REFRESH-INTERVAL;VALUE=DURATION:PT1H
X-Robots-Tag:noindex
X-PUBLISHED-TTL:PT1H
BEGIN:VTIMEZONE
TZID:America/Los_Angeles
BEGIN:DAYLIGHT
TZOFFSETFROM:-0800
TZOFFSETTO:-0700
TZNAME:PDT
DTSTART:20240310T100000
END:DAYLIGHT
BEGIN:STANDARD
TZOFFSETFROM:-0700
TZOFFSETTO:-0800
TZNAME:PST
DTSTART:20241103T090000
END:STANDARD
BEGIN:DAYLIGHT
TZOFFSETFROM:-0800
TZOFFSETTO:-0700
TZNAME:PDT
DTSTART:20250309T100000
END:DAYLIGHT
BEGIN:STANDARD
TZOFFSETFROM:-0700
TZOFFSETTO:-0800
TZNAME:PST
DTSTART:20251102T090000
END:STANDARD
BEGIN:DAYLIGHT
TZOFFSETFROM:-0800
TZOFFSETTO:-0700
TZNAME:PDT
DTSTART:20260308T100000
END:DAYLIGHT
BEGIN:STANDARD
TZOFFSETFROM:-0700
TZOFFSETTO:-0800
TZNAME:PST
DTSTART:20261101T090000
END:STANDARD
END:VTIMEZONE
BEGIN:VEVENT
DTSTART;TZID=America/Los_Angeles:20251206T163000
DTEND;TZID=America/Los_Angeles:20251206T180000
DTSTAMP:20260423T172612
CREATED:20251203T132959Z
LAST-MODIFIED:20251204T041634Z
UID:5505-1765038600-1765044000@ecv1846.com
SUMMARY:MV 1846 ECV 2025 SJB Christmas Parade
DESCRIPTION:Questions\, Comments\, Concerns contact your NGH David Shepherd JR (831) 206-8936 or your VNGH Frank Sanchez at (831) 207-9903
URL:https://ecv1846.com/event/mv-1846-ecv-2025-sjb-christmas-parade/
LOCATION:San Juan Bautista School\, 2000 San Juan Hwy\, San Juan Bautista\, CA\, 95045\, United States
CATEGORIES:Parade
END:VEVENT
END:VCALENDAR