BEGIN:VCALENDAR
VERSION:2.0
PRODID:-//Monterey Viejo ECV® 1846 - ECPv6.15.20//NONSGML v1.0//EN
CALSCALE:GREGORIAN
METHOD:PUBLISH
X-ORIGINAL-URL:https://ecv1846.com
X-WR-CALDESC:Events for Monterey Viejo ECV® 1846
REFRESH-INTERVAL;VALUE=DURATION:PT1H
X-Robots-Tag:noindex
X-PUBLISHED-TTL:PT1H
BEGIN:VTIMEZONE
TZID:America/Los_Angeles
BEGIN:DAYLIGHT
TZOFFSETFROM:-0800
TZOFFSETTO:-0700
TZNAME:PDT
DTSTART:20220313T100000
END:DAYLIGHT
BEGIN:STANDARD
TZOFFSETFROM:-0700
TZOFFSETTO:-0800
TZNAME:PST
DTSTART:20221106T090000
END:STANDARD
BEGIN:DAYLIGHT
TZOFFSETFROM:-0800
TZOFFSETTO:-0700
TZNAME:PDT
DTSTART:20230312T100000
END:DAYLIGHT
BEGIN:STANDARD
TZOFFSETFROM:-0700
TZOFFSETTO:-0800
TZNAME:PST
DTSTART:20231105T090000
END:STANDARD
BEGIN:DAYLIGHT
TZOFFSETFROM:-0800
TZOFFSETTO:-0700
TZNAME:PDT
DTSTART:20240310T100000
END:DAYLIGHT
BEGIN:STANDARD
TZOFFSETFROM:-0700
TZOFFSETTO:-0800
TZNAME:PST
DTSTART:20241103T090000
END:STANDARD
BEGIN:DAYLIGHT
TZOFFSETFROM:-0800
TZOFFSETTO:-0700
TZNAME:PDT
DTSTART:20250309T100000
END:DAYLIGHT
BEGIN:STANDARD
TZOFFSETFROM:-0700
TZOFFSETTO:-0800
TZNAME:PST
DTSTART:20251102T090000
END:STANDARD
BEGIN:DAYLIGHT
TZOFFSETFROM:-0800
TZOFFSETTO:-0700
TZNAME:PDT
DTSTART:20260308T100000
END:DAYLIGHT
BEGIN:STANDARD
TZOFFSETFROM:-0700
TZOFFSETTO:-0800
TZNAME:PST
DTSTART:20261101T090000
END:STANDARD
END:VTIMEZONE
BEGIN:VEVENT
DTSTART;TZID=America/Los_Angeles:20250104T090000
DTEND;TZID=America/Los_Angeles:20250104T150000
DTSTAMP:20260423T130827
CREATED:20241216T014217Z
LAST-MODIFIED:20241229T125020Z
UID:4914-1735981200-1736002800@ecv1846.com
SUMMARY:(Cancelled) MV 1846 ECV 2025 Work Party / Meeting at Manzanita Park
DESCRIPTION:Can Food Drive
URL:https://ecv1846.com/event/mv-1846-ecv-2025-work-party-meeting-at-manzanita-park/
LOCATION:Manzanita Sports Complex\, 17100 Castroville Blvd\, Prunedale\, CA\, 93907\, United States
CATEGORIES:Work Party
ATTACH;FMTTYPE=image/jpeg:https://ecv1846.com/wp-content/uploads/2024/12/ManzanitaPark.jpg
END:VEVENT
BEGIN:VEVENT
DTSTART;TZID=America/Los_Angeles:20240907T090000
DTEND;TZID=America/Los_Angeles:20240907T170000
DTSTAMP:20260423T130827
CREATED:20240128T220709Z
LAST-MODIFIED:20240904T134752Z
UID:4546-1725699600-1725728400@ecv1846.com
SUMMARY:MV 1846 ECV 2024 September Work Party
DESCRIPTION:Work party at the infamous fishy pond of San Juan Bautista. \nWe’ve been here before. \nIf you haven’t well there’s a stocked pond that can be seen from both lanes of traffic on Highway 101 near San Juan Bautista called McAlpine Lake. Hard to miss. Link to map below. \nSept 7th which is a Saturday we will be having a work party to do what’s necessary and unnecessary to help get the place ready for our next tremendously stupendous event called a fall doins with lightning trout. \nCome prepared with gloves\, pole saw\, chain saw\, rakes\, shovels\, weed eater\, rakes\, shovels\, hoes\, a paint brush\, paint pan\, leaf blower\, a weed eater\, two sticks\, briquettes\, lighter fluid and a lighter\, possibly a fishy pole and some bait etc….Some things doubled in case you want to try two handing things for entertainment purposes. \nFamily and friends welcome as well. \nQuestions\, comments\, concerns: Name Here (000)000-0000
URL:https://ecv1846.com/event/mv-1846-ecv-2024-september-work-party/
LOCATION:McAlpine Lake\, 900 Anzar Road\, San Juan Bautista\, CA\, 95045\, United States
CATEGORIES:Work Party
END:VEVENT
BEGIN:VEVENT
DTSTART;TZID=America/Los_Angeles:20240803T090000
DTEND;TZID=America/Los_Angeles:20240803T170000
DTSTAMP:20260423T130827
CREATED:20240128T220418Z
LAST-MODIFIED:20240128T220418Z
UID:4540-1722675600-1722704400@ecv1846.com
SUMMARY:MV 1846 ECV 2024 August Work Party
DESCRIPTION:
URL:https://ecv1846.com/event/mv-1846-ecv-2024-august-work-party/
LOCATION:San Benito Historical Park\, 8300 Airline Hwy\, Hollister\, CA\, 95023\, United States
CATEGORIES:Work Party
END:VEVENT
BEGIN:VEVENT
DTSTART;TZID=America/Los_Angeles:20240618T080000
DTEND;TZID=America/Los_Angeles:20240930T170000
DTSTAMP:20260423T130827
CREATED:20240420T142345Z
LAST-MODIFIED:20241002T022331Z
UID:4681-1718697600-1727715600@ecv1846.com
SUMMARY:MV 1846 ECV 2024 Laguna Seca Volunteering
DESCRIPTION:From XNGH Dylan Tortolani: ATTENTION BROTHERS: Racing season is here again and so we need volunteers for Laguna Seca. Please contact me via messenger if available for one\, some\, or all of these days if you would like to volunteer. Age restrictions and specific clothing is required in order to enter specific sections of the track/pits. Please contact Dylan with any questions or concerns. THANK YOU!!! \nFor the rest of the year please see the below schedule for volunteering. \nMay 2-5 – Laguna Seca SpeedTour (Trans Am)\nMay 10-12 – Motul Course de Monterey (IMSA)\nMay 17-19 – Ferrari Racing Days \nJune 21-23 – Firestone Grand Prix of Monterey (INDYCAR)\nJuly 12-14 – MotoAmerica Superbike SpeedFest at Monterey\nAugust 10-11 – Monterey Pre-Reunion & Corkscrew Hillclimb\nAugust 14-17 – Rolex Monterey Motorsports Reunion\nSeptember 27-29 – GRIDLIFE Laguna \n2024 Upcoming Events: Laguna Seca Upcoming Events \n2024 Calendar: Laguna Seca Track Calendar 2024 \n  \nQuestions\, comments\, concerns\, request to volunteer with Specific Dates Contact  XNGH Dylan Tortolani: (831) 277-4398 Or contact XNGH Dylan Tortolani through facebook messenger: Facebook Messenger Dylan Tortolani
URL:https://ecv1846.com/event/mv-1846-ecv-2024-spring-laguna-seca-volunteering/
LOCATION:Laguna Seca Raceway\, 1021 Monterey Salinas Hwy\,\, Salinas\, 93908\, United States
CATEGORIES:Work Party
ORGANIZER;CN="Dylan Tortolani":MAILTO:dylantort@hotmail.com
END:VEVENT
BEGIN:VEVENT
DTSTART;TZID=America/Los_Angeles:20240601T090000
DTEND;TZID=America/Los_Angeles:20240601T170000
DTSTAMP:20260423T130827
CREATED:20240128T215847Z
LAST-MODIFIED:20240128T215847Z
UID:4532-1717232400-1717261200@ecv1846.com
SUMMARY:MV 1846 ECV 2024 June Work Party
DESCRIPTION:
URL:https://ecv1846.com/event/mv-1846-ecv-2024-june-work-party/
LOCATION:San Benito Historical Park\, 8300 Airline Hwy\, Hollister\, CA\, 95023\, United States
CATEGORIES:Work Party
END:VEVENT
BEGIN:VEVENT
DTSTART;TZID=America/Los_Angeles:20240504T090000
DTEND;TZID=America/Los_Angeles:20240504T170000
DTSTAMP:20260423T130827
CREATED:20240128T215406Z
LAST-MODIFIED:20240128T215515Z
UID:4522-1714813200-1714842000@ecv1846.com
SUMMARY:MV 1846 ECV 2024 May Work Party
DESCRIPTION:
URL:https://ecv1846.com/event/mv-1846-ecv-2024-work-party/
LOCATION:San Benito Historical Park\, 8300 Airline Hwy\, Hollister\, CA\, 95023\, United States
CATEGORIES:Work Party
END:VEVENT
BEGIN:VEVENT
DTSTART;TZID=America/Los_Angeles:20240302T080000
DTEND;TZID=America/Los_Angeles:20240302T150000
DTSTAMP:20260423T130827
CREATED:20240223T155419Z
LAST-MODIFIED:20240224T172330Z
UID:4590-1709366400-1709391600@ecv1846.com
SUMMARY:MV1846 ECV March Work Party 2
DESCRIPTION:Manzanita Park \nMarch 2 \n9am \nTools needed.. \nShovels rakes wheelbarrows.
URL:https://ecv1846.com/event/mv1846-ecv-march-work-party-2/
LOCATION:Manzanita Sports Complex\, 17100 Castroville Blvd\, Prunedale\, CA\, 93907\, United States
CATEGORIES:Work Party
END:VEVENT
BEGIN:VEVENT
DTSTART;TZID=America/Los_Angeles:20240302T080000
DTEND;TZID=America/Los_Angeles:20240302T150000
DTSTAMP:20260423T130827
CREATED:20240128T170209Z
LAST-MODIFIED:20240224T170641Z
UID:4504-1709366400-1709391600@ecv1846.com
SUMMARY:MV 1846 ECV 2024 March Work Party - Cancelled
DESCRIPTION:MV 1846 ECV 2024 March Work Party \nBolado Park \n  \nUnfortunately the work party at Bolado Park has been cancelled and changed to Manzanita Park. Please see work information about work party 2
URL:https://ecv1846.com/event/mv-1846-ecv-2024-march-work-party/
LOCATION:Bolado Park\, 9000 Airline Highway\, Hollister\, CA\, 95075\, United States
CATEGORIES:Work Party
END:VEVENT
BEGIN:VEVENT
DTSTART;TZID=America/Los_Angeles:20240203T090000
DTEND;TZID=America/Los_Angeles:20240203T150000
DTSTAMP:20260423T130827
CREATED:20240128T165451Z
LAST-MODIFIED:20240130T161607Z
UID:4493-1706950800-1706972400@ecv1846.com
SUMMARY:MV 1846 ECV 2024 February Work Party
DESCRIPTION:Come on down to the Historical Park and partake in a fun work party…I don’t know what we will be doing but I will be there to feed you lunch and libations. Hopefully it will not rain but if so this may be postponed. THANK YOU! Dylan
URL:https://ecv1846.com/event/mv-1846-ecv-2024-february-work-party/
LOCATION:San Benito Historical Park\, 8300 Airline Hwy\, Hollister\, CA\, 95023\, United States
CATEGORIES:Work Party
END:VEVENT
BEGIN:VEVENT
DTSTART;VALUE=DATE:20231215
DTEND;VALUE=DATE:20231216
DTSTAMP:20260423T130827
CREATED:20231129T012706Z
LAST-MODIFIED:20231211T221946Z
UID:4416-1702598400-1702684799@ecv1846.com
SUMMARY:MV 1846 ECV 2023 Toy Drive
DESCRIPTION:Donations accepted until December 15th. Drop off address below or contact David or Damien for pickup. \n845 E Laurel Dr\, Salinas\, CA 93905 \n 
URL:https://ecv1846.com/event/mv-1846-ecv-2023-toy-drive/
LOCATION:BACS Center Salinas\, 845 E Laurel Dr\, Salinas\, CA 93905\, Salinas\, CA\, 93905\, United States
CATEGORIES:Work Party
ATTACH;FMTTYPE=image/jpeg:https://ecv1846.com/wp-content/uploads/2023/11/370162895_1081245286213217_7717359375231701770_n.jpg
END:VEVENT
BEGIN:VEVENT
DTSTART;TZID=America/Los_Angeles:20231007T090000
DTEND;TZID=America/Los_Angeles:20231007T140000
DTSTAMP:20260423T130827
CREATED:20231005T025235Z
LAST-MODIFIED:20231007T131507Z
UID:4373-1696669200-1696687200@ecv1846.com
SUMMARY:MV1846 ECV 2023 October Work Party
DESCRIPTION:Per Dylan Tortolani \nWork Party October 7th at 9AM at the San Benito Historical Park. Come on down and join us. I will feed you lunch and beer. \nFrom John Wrobel: \nTomorrow is the first Saturday of the month. Workparty at the Historical Park in Tres Pinos.\nThe main project……..move stuff in the sheds around and make room for some of the recently acquired John Deere tractors.\nSee you at 9 am. We will quit early due to excessive heat\, and there will be plenty of refreshments (leftovers from candlelight).\nWill also have something for lunch. Bring your favorite tater salad or???? to compliment.\nQuestions\, Comments Concerns Contact Dylan at 831-277-4398
URL:https://ecv1846.com/event/mv1846-ecv-2023-october-work-party/
LOCATION:San Benito Historical Park\, 8300 Airline Hwy\, Hollister\, CA\, 95023\, United States
CATEGORIES:Work Party
ORGANIZER;CN="Dylan Tortolani":MAILTO:dylantort@hotmail.com
END:VEVENT
BEGIN:VEVENT
DTSTART;TZID=America/Los_Angeles:20230722T090000
DTEND;TZID=America/Los_Angeles:20230722T140000
DTSTAMP:20260423T130827
CREATED:20230720T205418Z
LAST-MODIFIED:20230721T135023Z
UID:4313-1690016400-1690034400@ecv1846.com
SUMMARY:MV1846 ECV - Work Party Azevedo Ranch July 22 2023
DESCRIPTION:Hewgag brays with short notice. \nWe could use a few extra hands to paint some fences thus weekend at Azevedo Ranch in help for prep of the doins site for candlelight happenin next Friday. Starts at 9am and ends well when the fence is painted. Questions concerns contact the humbug or reply back to the notice and I’ll forward it on. \n\n 
URL:https://ecv1846.com/event/mv1846-ecv-work-party-azevedo-ranch-july-22-2023/
LOCATION:Azevedo Ranch\, 337 Ricardo Drive\, Aromas\, CA\, 95004\, United States
CATEGORIES:Work Party
END:VEVENT
BEGIN:VEVENT
DTSTART;TZID=America/Los_Angeles:20230429T070000
DTEND;TZID=America/Los_Angeles:20230429T100000
DTSTAMP:20260423T130827
CREATED:20230426T012759Z
LAST-MODIFIED:20230426T014143Z
UID:4269-1682751600-1682762400@ecv1846.com
SUMMARY:MV 1846 ECV Hilltop Ferry Plaque Erection
DESCRIPTION:Ok Boys Enrique Villalobos is going to Demonstrate the Art of A Perfect Erection💪🏻\nOn Saturday Morning at 9am.. looking for some Strong Backs and Shovels at 8am to do some light digging. We will be at the End of spreckels Lane in Salinas\, not Spreckels Boulevard.￼4/29/23 Donuts will be provided bring you own Coffee #46 will have some beers💪🏻💪🏻 we will be on site 7ish
URL:https://ecv1846.com/event/mv-1846-ecv-hilltop-ferry-plaque-erection/
LOCATION:Hilltop Ferry Plaque\, 1 Spreckels Lane\, Salinas\, CA\, 93908\, United States
CATEGORIES:Work Party
END:VEVENT
BEGIN:VEVENT
DTSTART;TZID=America/Los_Angeles:20230204T090000
DTEND;TZID=America/Los_Angeles:20230204T130000
DTSTAMP:20260423T130827
CREATED:20230130T150130Z
LAST-MODIFIED:20230203T035936Z
UID:4150-1675501200-1675515600@ecv1846.com
SUMMARY:San Benito February 2023 Work Party
DESCRIPTION:San Benito February Work Party \nThis event may be canceled for rain if needed. We will be doing the forms and rebar for the floor of the Apricot shed so please bring tools that are used for that such as wire tightening tools\, wire cutters and the like\, and shovels. \nGood Morning all\,\nWork party time again……..\nWe will be at the San Benito County Historical Park and the\nmain project will be continuation of preparation for the concrete slab in the Apricot shed.\nWe will need some flat shovels to complete some fine grading\,\nregular shovels for footing\nhammers for form stakes\nside cutter pliers for rebar tie wire\ncompacting implements\ngloves\nand whatever else you can think of that might come in handy for\nconcrete form prep.
URL:https://ecv1846.com/event/san-benito-february-2023-work-party/
LOCATION:San Benito Historical Park\, 8300 Airline Hwy\, Hollister\, CA\, 95023\, United States
CATEGORIES:Work Party
ATTACH;FMTTYPE=image/jpeg:https://ecv1846.com/wp-content/uploads/2023/01/326999958_490606063035253_5234771461671392178_n.jpg
ORGANIZER;CN="Mark Yotsuya":MAILTO:madmaxx3937@msn.com
END:VEVENT
END:VCALENDAR